BEGIN:VCALENDAR
VERSION:2.0
PRODID:https://www.tietoevry.com/
BEGIN:VEVENT
UID:https://www.tietoevry.com/se/event/2026/framtidens-invanarservice/
DTSTAMP:20260419T150825Z
DTSTART:20260422T063000Z
DTEND:20260422T073000Z
SUMMARY:Framtidens invånarservice
LOCATION:
END:VEVENT
END:VCALENDAR
