BEGIN:VCALENDAR
VERSION:2.0
PRODID:https://www.tietoevry.com/
BEGIN:VEVENT
UID:https://www.tietoevry.com/se/event/2025/vitalis-2025/
DTSTAMP:20260419T134643Z
DTSTART:20250518T220000Z
DTEND:20250521T220000Z
SUMMARY:Vitalis 2025
LOCATION:
END:VEVENT
END:VCALENDAR
