BEGIN:VCALENDAR
VERSION:2.0
PRODID:https://www.tietoevry.com/
BEGIN:VEVENT
UID:https://www.tietoevry.com/se/event/2024/vitalis-2024/
DTSTAMP:20260423T143230Z
DTSTART:20240513T220000Z
DTEND:20240515T220000Z
SUMMARY:Vitalis 2024
LOCATION:
END:VEVENT
END:VCALENDAR
