BEGIN:VCALENDAR
VERSION:2.0
PRODID:https://www.tietoevry.com/
BEGIN:VEVENT
UID:https://www.tietoevry.com/se/event/2023/webinar-dra-nytta-av-kommande-lagar-och-regler-rorande-e-fakturering-med-tietoevry-bix-services/
DTSTAMP:20260420T163633Z
DTSTART:20231107T080000Z
DTEND:20231107T084500Z
SUMMARY:Webinar: Dra nytta av kommande lagar och regler rörande e-fakturering med Tietoevry BIX
DESCRIPTION:Webinar: Dra nytta av kommande lagar och regler rörande e-fakturering med Tietoevry BIX Lägg till i kalendern. Teams link till event.   Med vänliga hälsningar Tietoevry Teams
LOCATION:
END:VEVENT
END:VCALENDAR
