BEGIN:VCALENDAR
VERSION:2.0
PRODID:https://www.tietoevry.com/
BEGIN:VEVENT
UID:https://www.tietoevry.com/se/event/2023/vitalis-stipendiet-2023/
DTSTAMP:20260423T131751Z
DTSTART:20230324T090000Z
DTEND:20230324T120000Z
SUMMARY:Vitalis-stipendiet 2023
LOCATION:
END:VEVENT
END:VCALENDAR
