BEGIN:VCALENDAR
VERSION:2.0
PRODID:https://www.tietoevry.com/
BEGIN:VEVENT
UID:https://www.tietoevry.com/se/event/2023/vitalis-2023/
DTSTAMP:20260423T115825Z
DTSTART:20230521T220000Z
DTEND:20230524T220000Z
SUMMARY:Vitalis 2023
LOCATION:Svenska Mässan 
END:VEVENT
END:VCALENDAR
