BEGIN:VCALENDAR
VERSION:2.0
PRODID:https://www.tietoevry.com/
BEGIN:VEVENT
UID:https://www.tietoevry.com/se/event/2022/vitalis-2022/
DTSTAMP:20260422T163702Z
DTSTART:20220517T060000Z
DTEND:20220519T150000Z
SUMMARY:Vitalis 2022
LOCATION:Svenska Mässan
END:VEVENT
END:VCALENDAR
