BEGIN:VCALENDAR
VERSION:2.0
PRODID:https://www.tietoevry.com/
BEGIN:VEVENT
UID:https://www.tietoevry.com/se/event/2021/lev-upp-till-forvantan/
DTSTAMP:20260423T143228Z
DTSTART:20210523T220000Z
DTEND:20210830T220000Z
SUMMARY:On demand: Dags att leva upp till dina användares förväntningar, men hur svårt kan det vara?
LOCATION:
END:VEVENT
END:VCALENDAR
