BEGIN:VCALENDAR
VERSION:2.0
PRODID:https://www.tietoevry.com/
BEGIN:VEVENT
UID:https://www.tietoevry.com/se/event/2021/dags-for-tillganglig-e-handel-for-alla/
DTSTAMP:20260423T143308Z
DTSTART:20210622T120000Z
DTEND:20211231T134500Z
SUMMARY:Dags för tillgänglig e-handel för alla
LOCATION:
END:VEVENT
END:VCALENDAR
