BEGIN:VCALENDAR
VERSION:2.0
PRODID:https://www.tietoevry.com/
BEGIN:VEVENT
UID:https://www.tietoevry.com/se/event/2021/almedalen-2021/
DTSTAMP:20260423T170058Z
DTSTART:20210706T100000Z
DTEND:20210706T104500Z
SUMMARY:Almedalen 2021
LOCATION:
END:VEVENT
END:VCALENDAR
