BEGIN:VCALENDAR
VERSION:2.0
PRODID:https://www.tietoevry.com/
BEGIN:VEVENT
UID:https://www.tietoevry.com/pl/wydarzenia/2022/digital-futures-wroclaw/
DTSTAMP:20260425T163141Z
DTSTART:20221026T153000Z
DTEND:20221026T190000Z
SUMMARY:Digital Futures Wroclaw
LOCATION:Klubokawiarnia Mleczarnia
END:VEVENT
END:VCALENDAR
