BEGIN:VCALENDAR
VERSION:2.0
PRODID:https://www.tietoevry.com/
BEGIN:VEVENT
UID:https://www.tietoevry.com/pl/wydarzenia/2022/digital-futures-szczecin/
DTSTAMP:20260423T115615Z
DTSTART:20221212T163000Z
DTEND:20221212T200000Z
SUMMARY:Digital Futures Szczecin
DESCRIPTION:Dziękujemy za zgłoszenie na Meetup Digital Futures. Miejsce wydarzenia: Szczecin - Hormon, Monte Cassino 6, Szczecin   start: 17:30  Czekamy na Ciebie! Digital Futures Team
LOCATION:Hormon
END:VEVENT
END:VCALENDAR
