BEGIN:VCALENDAR
VERSION:2.0
PRODID:https://www.tietoevry.com/
BEGIN:VEVENT
UID:https://www.tietoevry.com/pl/wydarzenia/2022/digital-futures-poznan/
DTSTAMP:20260423T115609Z
DTSTART:20230116T163000Z
DTEND:20230116T200000Z
SUMMARY:Digital Futures Poznań
DESCRIPTION:Dziękujemy za zgłoszenie na Meetup Digital Futures. Miejsce wydarzenia: Poznań - Miasto Bar, Szewska 20 Czekamy na Ciebie! Digital Futures Team
LOCATION:Miasto Bar
END:VEVENT
END:VCALENDAR
