BEGIN:VCALENDAR
VERSION:2.0
PRODID:https://www.tietoevry.com/
BEGIN:VEVENT
UID:https://www.tietoevry.com/pl/wydarzenia/2022/digital-futures-gdansk/
DTSTAMP:20260423T120030Z
DTSTART:20221109T163000Z
DTEND:20221109T200000Z
SUMMARY:Digital Futures Gdańsk
DESCRIPTION:Dziękujemy za zgłoszenie na Meetup Digital Futures.    Miejsce wydarzenia: Gdańsk – Stary Maneż, J. Słowackiego 23, Garnizon Kultury, Gdańsk Wrzeszcz Start: 17:30  Czekamy na Ciebie! Digital Futures Team   
LOCATION:Stary Maneż
END:VEVENT
END:VCALENDAR
