BEGIN:VCALENDAR
VERSION:2.0
PRODID:https://www.tietoevry.com/
BEGIN:VEVENT
UID:https://www.tietoevry.com/no/arrangementer/2026/public-360-roadshow-2026/
DTSTAMP:20260423T131825Z
DTSTART:20260420T220000Z
DTEND:20260429T220000Z
SUMMARY:Public 360 roadshow 2026
DESCRIPTION:Public 360° Roadshow 2026 - 6 byer  - 6 dager
LOCATION:
END:VEVENT
END:VCALENDAR
