BEGIN:VCALENDAR
VERSION:2.0
PRODID:https://www.tietoevry.com/
BEGIN:VEVENT
UID:https://www.tietoevry.com/no/arrangementer/2025/Bransjeseminar-faa-kontroll-paa-dataene-dine-reduser-risiko-og-skap-nye-muligheter/
DTSTAMP:20260421T100533Z
DTSTART:20250213T073000Z
DTEND:20250213T110000Z
SUMMARY:Bransjeseminar: Få kontroll på dataene dine, reduser risiko og skap nye muligheter
DESCRIPTION:Du er nå påmeldt til bransjeseminaret hos Data Services, Tietoevry Industry, den 13. februar kl 08:30-12:00 Tema for dagen: Få kontroll på dataene dine, reduser risiko og skap nye muligheter Vi ser frem til å møte deg på vårt kontor på Fornebu, Snarøyveien 30. Vi begynner dagen med frokost og spennende program.    
LOCATION:
END:VEVENT
END:VCALENDAR
