BEGIN:VCALENDAR
VERSION:2.0
PRODID:https://www.tietoevry.com/
BEGIN:VEVENT
UID:https://www.tietoevry.com/no/arrangementer/2024/tietoevry-banking-inviterer-til-webinar-om-dora-og-hvordan-reguleringen-vil-pavirke-norge-og-norske-banker/
DTSTAMP:20260419T130117Z
DTSTART:20240408T100000Z
DTEND:20240408T104500Z
SUMMARY:Tietoevry Banking inviterer til webinar om DORA og hvordan reguleringen vil påvirke Norge og norske banker
LOCATION:
END:VEVENT
END:VCALENDAR
