BEGIN:VCALENDAR
VERSION:2.0
PRODID:https://www.tietoevry.com/
BEGIN:VEVENT
UID:https://www.tietoevry.com/no/arrangementer/2024/har-norske-virksomheter-egentlig-kompetansen-som-trengs-for-a-ta-i-bruk-ki/
DTSTAMP:20260423T210623Z
DTSTART:20240815T083000Z
DTEND:20240815T090000Z
SUMMARY:Arendalsuka 2024 Create-DN
DESCRIPTION:Generativ KI kan både gjøre arbeidsdagen enklere for mange arbeidstakere og gi store forretningsmessige gevinster. Men har norske virksomheter tilstrekkelig kunnskap om hvordan de kan ta ut dette potensialet? Eller er de KI-sinker? Vet norske virksomheter for eksempel hva som kreves for å ha kontroll på dataene, sikre datakvalitet, og unngå brudd på personvernet? En fersk undersøkelse utført for Tietoevry Create viser at intern kompetanse og personvern er de største barrierene for bruk av KI. Datakvalitet er et at annet moment som trekkes fram. Mange mangler full oversikt over hva som faktisk kreves. Vi tar debatten: Har norske virksomheter god nok KI-kompetanse eller har de allerede havnet bakpå? Velkommen til DN-teltet torsdag 15.august kl 10.30 Se informasjon om programmet her på arendalsuka.no og på DN.no  
LOCATION:Dagens Næringsliv, DN-teltet
END:VEVENT
END:VCALENDAR
