BEGIN:VCALENDAR
VERSION:2.0
PRODID:https://www.tietoevry.com/
BEGIN:VEVENT
UID:https://www.tietoevry.com/no/arrangementer/2024/create-arendalsuka-2024/
DTSTAMP:20260423T210342Z
DTSTART:20240813T100000Z
DTEND:20240813T104500Z
SUMMARY:Arendalsuka 2024 Create
DESCRIPTION:Kunstig Intelligens (KI) er ikke nytt, men siden teknologien ble kommersialisert med ChatGPT har alle snakket om den - og praten går enda. Utviklingen skjer i rekordfart, og skaper både utfordringer og muligheter for norske virksomheter. Potensialet er åpenbart stort, men hvor klare er norske virksomheter egentlig til å ta i bruk KI og hva skal til for å lykkes? For å prøve å svare på dette spørsmålet, har vi gjennomført en undersøkelse blant norske virksomheter der vi har stilt spørsmål rundt deres bruk av KI i dag. Her har vi blant annet spurt om datagrunnlaget som brukes til å trene KI og modenheten til virksomheten for å hente verdi ut av ulike KI-verktøy. I Arendal presenterer vi nøkkelfunn fra undersøkelsen: Vi diskuterer hva som skal til for å lykkes med KI, og spør hva som må være på plass for at virksomheter full ut skal greie å nyttiggjøre seg denne teknologien. Velkommen til presentasjon og diskusjon på Aleppo Stasjon i Arendal tirsdag 13. august kl 12.00! Se arrangementet på arendalsuka.no
LOCATION:Aleppo Stasjon
END:VEVENT
END:VCALENDAR
