BEGIN:VCALENDAR
VERSION:2.0
PRODID:https://www.tietoevry.com/
BEGIN:VEVENT
UID:https://www.tietoevry.com/no/arrangementer/2024/arendalsuka2024-tietoevrybanking-digitalsvindel/
DTSTAMP:20260423T210349Z
DTSTART:20240813T070000Z
DTEND:20240813T080000Z
SUMMARY:Arendalsuka 2024 Banking_1
LOCATION:Aleppo Stasjon 
END:VEVENT
END:VCALENDAR
