BEGIN:VCALENDAR
VERSION:2.0
PRODID:https://www.tietoevry.com/
BEGIN:VEVENT
UID:https://www.tietoevry.com/no/arrangementer/2024/arendalsuka2024-tietoevrybanking-data2/
DTSTAMP:20260423T210624Z
DTSTART:20240814T070000Z
DTEND:20240814T080000Z
SUMMARY:Arendalsuka 2024 Banking_2
LOCATION:Aleppo Stasjon 
END:VEVENT
END:VCALENDAR
