BEGIN:VCALENDAR
VERSION:2.0
PRODID:https://www.tietoevry.com/
BEGIN:VEVENT
UID:https://www.tietoevry.com/no/arrangementer/2024/arendalsuka-2024/
DTSTAMP:20260423T192740Z
DTSTART:20240813T070000Z
DTEND:20240814T080000Z
SUMMARY:Arendalsuka 2024
LOCATION:Aleppo Stasjon
END:VEVENT
END:VCALENDAR
