BEGIN:VCALENDAR
VERSION:2.0
PRODID:https://www.tietoevry.com/
BEGIN:VEVENT
UID:https://www.tietoevry.com/no/arrangementer/2024/arendalsuka-2024-industry2/
DTSTAMP:20260423T210404Z
DTSTART:20240813T063000Z
DTEND:20240813T073000Z
SUMMARY:Arendalsuka 2024 Industry_2
LOCATION:Sløydsalen
END:VEVENT
END:VCALENDAR
