BEGIN:VCALENDAR
VERSION:2.0
PRODID:https://www.tietoevry.com/
BEGIN:VEVENT
UID:https://www.tietoevry.com/no/arrangementer/2024/arendalsuka-2024-industry/
DTSTAMP:20260423T210342Z
DTSTART:20240813T113000Z
DTEND:20240813T121500Z
SUMMARY:Arendalsuka 2024 Industry
LOCATION:Aleppo Stasjon
END:VEVENT
END:VCALENDAR
