BEGIN:VCALENDAR
VERSION:2.0
PRODID:https://www.tietoevry.com/
BEGIN:VEVENT
UID:https://www.tietoevry.com/no/arrangementer/2024/arendalsuka-2024-care/
DTSTAMP:20260423T210716Z
DTSTART:20240813T130000Z
DTEND:20240813T134500Z
SUMMARY:Arendalsuka 2024 Care
LOCATION:Aleppo Stasjon
END:VEVENT
END:VCALENDAR
