BEGIN:VCALENDAR
VERSION:2.0
PRODID:https://www.tietoevry.com/
BEGIN:VEVENT
UID:https://www.tietoevry.com/no/arrangementer/2023/arendalsuka-2023/
DTSTAMP:20260423T120035Z
DTSTART:20230816T070000Z
DTEND:20230817T140000Z
SUMMARY:Arendalsuka 2023
LOCATION:Thon Hotel Arendal 
END:VEVENT
END:VCALENDAR
