BEGIN:VCALENDAR
VERSION:2.0
PRODID:https://www.tietoevry.com/
BEGIN:VEVENT
UID:https://www.tietoevry.com/no/arrangementer/2022/oslo-pride-2022/
DTSTAMP:20260423T144847Z
DTSTART:20220618T110000Z
DTEND:20220627T080000Z
SUMMARY:Oslo Pride 2022
LOCATION:Oslo
END:VEVENT
END:VCALENDAR
