BEGIN:VCALENDAR
VERSION:2.0
PRODID:https://www.tietoevry.com/
BEGIN:VEVENT
UID:https://www.tietoevry.com/no/arrangementer/2021/webinar-digitalisering-i-norske-kommuner/
DTSTAMP:20260423T120024Z
DTSTART:20211207T080000Z
DTEND:20211207T090000Z
SUMMARY:Webinar: Digitalisering i norske kommuner
LOCATION:
END:VEVENT
END:VCALENDAR
