BEGIN:VCALENDAR
VERSION:2.0
PRODID:https://www.tietoevry.com/
BEGIN:VEVENT
UID:https://www.tietoevry.com/no/arrangementer/2021/sikkerhetsevent2021/
DTSTAMP:20260423T144659Z
DTSTART:20210317T090000Z
DTEND:20210317T100000Z
SUMMARY:Sikkerhetsevent2021
DESCRIPTION:Velkommen til TietoEVRY sikkerhetsstream. Her får du med deg de beste råd og anbefalinger for målrettede sikkerhetstiltak fra dyktige eksperter i norske virksomheter. Live-link til webinaret kommer i egen epost. Oppdatert agenda finner du her: https://www.tietoevry.com/no/arrangementer/2021/sikkerhetsevent2021/
LOCATION:
END:VEVENT
END:VCALENDAR
