BEGIN:VCALENDAR
VERSION:2.0
PRODID:https://www.tietoevry.com/
BEGIN:VEVENT
UID:https://www.tietoevry.com/no/arrangementer/2021/nokios-2021/
DTSTAMP:20260423T114957Z
DTSTART:20211026T070000Z
DTEND:20211028T120000Z
SUMMARY:NOKIOS 2021
DESCRIPTION:Book et møte med en av våre eksperter fra TietoEVRY på årets NOKIOS konferanse.
LOCATION:
END:VEVENT
END:VCALENDAR
