BEGIN:VCALENDAR
VERSION:2.0
PRODID:https://www.tietoevry.com/
BEGIN:VEVENT
UID:https://www.tietoevry.com/no/arrangementer/2021/ehin-2021/
DTSTAMP:20260423T115310Z
DTSTART:20211109T070000Z
DTEND:20211110T150000Z
SUMMARY:EHIN 2021
DESCRIPTION:Møt oss på EHiN 9-10 november. Velkommen!
LOCATION:X MEETING POINT
END:VEVENT
END:VCALENDAR
