BEGIN:VCALENDAR
VERSION:2.0
PRODID:https://www.tietoevry.com/
BEGIN:VEVENT
UID:https://www.tietoevry.com/fi/tapahtumat/2026/sosiaali--ja-terveydenhuollon-atk-paivat-2026/
DTSTAMP:20260423T020658Z
DTSTART:20260525T170000Z
DTEND:20260527T100000Z
SUMMARY:Sosiaali- ja terveydenhuollon ATK-päivät 2026
LOCATION:Messukeskus
END:VEVENT
END:VCALENDAR
