BEGIN:VCALENDAR
VERSION:2.0
PRODID:https://www.tietoevry.com/
BEGIN:VEVENT
UID:https://www.tietoevry.com/fi/tapahtumat/2023/sap-finug-hosted-by-tietoevry/
DTSTAMP:20260420T150353Z
DTSTART:20230919T110000Z
DTEND:20230919T150000Z
SUMMARY:SAP Finug hosted by Tietoevry
LOCATION:
END:VEVENT
END:VCALENDAR
