BEGIN:VCALENDAR
VERSION:2.0
PRODID:https://www.tietoevry.com/
BEGIN:VEVENT
UID:https://www.tietoevry.com/fi/tapahtumat/2023/laakaripaivat/
DTSTAMP:20260423T012401Z
DTSTART:20230125T060000Z
DTEND:20230127T130000Z
SUMMARY:Lääkäripäivät
LOCATION:Messukeskus
END:VEVENT
END:VCALENDAR
