BEGIN:VCALENDAR
VERSION:2.0
PRODID:https://www.tietoevry.com/
BEGIN:VEVENT
UID:https://www.tietoevry.com/fi/tapahtumat/2022/pride-helsinki-2022/
DTSTAMP:20260423T145417Z
DTSTART:20220627T060000Z
DTEND:20220702T210000Z
SUMMARY:Pride Helsinki 2022
LOCATION:
END:VEVENT
END:VCALENDAR
