BEGIN:VCALENDAR
VERSION:2.0
PRODID:https://www.tietoevry.com/
BEGIN:VEVENT
UID:https://www.tietoevry.com/en/events/2026/closed-window-from-30-march-to-29-april-2026/
DTSTAMP:20260423T112627Z
DTSTART:20260329T210000Z
DTEND:20260428T210000Z
SUMMARY:Closed window from 30 March to 29 April 2026
LOCATION:
END:VEVENT
END:VCALENDAR
