BEGIN:VCALENDAR
VERSION:2.0
PRODID:https://www.tietoevry.com/
BEGIN:VEVENT
UID:https://www.tietoevry.com/en/events/2025/wit-tietoevry-afterwork/
DTSTAMP:20260419T123125Z
DTSTART:20251126T140000Z
DTEND:20251126T170000Z
SUMMARY:WiT x Tietoevry afterwork
LOCATION:Tietoevry HQ
END:VEVENT
END:VCALENDAR
