BEGIN:VCALENDAR
VERSION:2.0
PRODID:https://www.tietoevry.com/
BEGIN:VEVENT
UID:https://www.tietoevry.com/en/events/2025/iaap-nordic-accessibility-event/
DTSTAMP:20260424T083844Z
DTSTART:20250203T110000Z
DTEND:20250204T150000Z
SUMMARY:IAAP Nordic Accessibility Event
LOCATION:Tietoevry HQ
END:VEVENT
END:VCALENDAR
