BEGIN:VCALENDAR
VERSION:2.0
PRODID:https://www.tietoevry.com/
BEGIN:VEVENT
UID:https://www.tietoevry.com/en/events/2024/tietoevry-create-microsoft-ai-tour-warsaw-2024/
DTSTAMP:20260425T223556Z
DTSTART:20241128T063000Z
DTEND:20241128T150000Z
SUMMARY:Tietoevry Create at Microsoft AI Tour Warsaw
LOCATION:
END:VEVENT
END:VCALENDAR
