BEGIN:VCALENDAR
VERSION:2.0
PRODID:https://www.tietoevry.com/
BEGIN:VEVENT
UID:https://www.tietoevry.com/en/events/2024/seminar-ai-breakfast/
DTSTAMP:20260419T190611Z
DTSTART:20240326T070000Z
DTEND:20240326T110000Z
SUMMARY:Seminar: AI Breakfast
DESCRIPTION:AI Breakfast – innovating business with artificial intelligence is an event that looks into practical use cases of AI in various industries and in customer relations field. Experts, thought leaders, and professionals will gather to share real-world examples of how AI has helped businesses across different sectors. Attendees can expect to gain valuable insights into the implementation of AI solutions, discovering new strategies that can innovate business through the power of artificial intelligence.
LOCATION:Microsoft Lietuva, Ukmergės str. 120-1
END:VEVENT
END:VCALENDAR
