BEGIN:VCALENDAR
VERSION:2.0
PRODID:https://www.tietoevry.com/
BEGIN:VEVENT
UID:https://www.tietoevry.com/en/events/2024/join-tietoevry-at-embedded-world-2024/
DTSTAMP:20260421T100342Z
DTSTART:20240409T070000Z
DTEND:20240411T140000Z
SUMMARY:Join Tietoevry at Embedded World 2024
LOCATION:
END:VEVENT
END:VCALENDAR
