BEGIN:VCALENDAR
VERSION:2.0
PRODID:https://www.tietoevry.com/
BEGIN:VEVENT
UID:https://www.tietoevry.com/en/events/2024/fondsdagen-2024-oslo/
DTSTAMP:20260419T115427Z
DTSTART:20240313T230000Z
DTEND:20240314T160000Z
SUMMARY:Fondsdagen 2024 Oslo
LOCATION:Hotel Bristol
END:VEVENT
END:VCALENDAR
