BEGIN:VCALENDAR
VERSION:2.0
PRODID:https://www.tietoevry.com/
BEGIN:VEVENT
UID:https://www.tietoevry.com/en/events/2023/webinar-mastering-peppol-e-invoicing-with-tietoevry-bix-services/
DTSTAMP:20260420T152736Z
DTSTART:20230921T063000Z
DTEND:20230921T070000Z
SUMMARY:Webinar: Mastering Peppol e-Invoicing with Tietoevry BIX Services
DESCRIPTION:Webinar: Mastering Peppol e-Invoicing with Tietoevry BIX Services. Please add to the calendar.  Teams link to event. Best regards Tietoevry Teams
LOCATION:
END:VEVENT
END:VCALENDAR
