BEGIN:VCALENDAR
VERSION:2.0
PRODID:https://www.tietoevry.com/
BEGIN:VEVENT
UID:https://www.tietoevry.com/en/events/2023/vitalis-scholarship-2023/
DTSTAMP:20260423T143245Z
DTSTART:20230324T090000Z
DTEND:20230324T120000Z
SUMMARY:Vitalis Scholarship 2023
LOCATION:
END:VEVENT
END:VCALENDAR
