BEGIN:VCALENDAR
VERSION:2.0
PRODID:https://www.tietoevry.com/
BEGIN:VEVENT
UID:https://www.tietoevry.com/en/events/2023/posttrade360_stockholm/
DTSTAMP:20260421T153209Z
DTSTART:20230329T050000Z
DTEND:20230330T140000Z
SUMMARY:PostTrade360_Stockholm
LOCATION:Space Arena
END:VEVENT
END:VCALENDAR
