BEGIN:VCALENDAR
VERSION:2.0
PRODID:https://www.tietoevry.com/
BEGIN:VEVENT
UID:https://www.tietoevry.com/en/events/2023/posttrade-copenhagen-2023/
DTSTAMP:20260420T125648Z
DTSTART:20231011T130000Z
DTEND:20231012T150000Z
SUMMARY:PostTrade Copenhagen 2023
LOCATION:Clarion Hotel Copenhagen airport
END:VEVENT
END:VCALENDAR
