BEGIN:VCALENDAR
VERSION:2.0
PRODID:https://www.tietoevry.com/
BEGIN:VEVENT
UID:https://www.tietoevry.com/en/events/2023/i3-seminar/
DTSTAMP:20260420T125346Z
DTSTART:20231018T060000Z
DTEND:20231018T073000Z
SUMMARY:i3 Seminar
LOCATION:
END:VEVENT
END:VCALENDAR
