BEGIN:VCALENDAR
VERSION:2.0
PRODID:https://www.tietoevry.com/
BEGIN:VEVENT
UID:https://www.tietoevry.com/en/events/2023/fastmarkets-forest-european-conference/
DTSTAMP:20260421T123048Z
DTSTART:20230307T110000Z
DTEND:20230309T150000Z
SUMMARY:Fastmarkets Forest European conference
LOCATION:Prague Marriott Hotel
END:VEVENT
END:VCALENDAR
