BEGIN:VCALENDAR
VERSION:2.0
PRODID:https://www.tietoevry.com/
BEGIN:VEVENT
UID:https://www.tietoevry.com/en/events/2022/she-conference-2022/
DTSTAMP:20260422T084643Z
DTSTART:20220317T060000Z
DTEND:20220331T140000Z
SUMMARY:SHE Conference 2022
DESCRIPTION: 
LOCATION:
END:VEVENT
END:VCALENDAR
