BEGIN:VCALENDAR
VERSION:2.0
PRODID:https://www.tietoevry.com/
BEGIN:VEVENT
UID:https://www.tietoevry.com/en/events/2022/meet-us-at-the-international-conference-for-forest-products-paper--packaging/
DTSTAMP:20260423T145011Z
DTSTART:20220927T060000Z
DTEND:20220929T143000Z
SUMMARY:International SAP Conference for Forest Products, Paper & Packaging
DESCRIPTION:International Conference for Forest Products, Paper & Packaging in September 27-29 in Madrid. The event is arranged in collaboration with TACC and SAP.  We welcome you to meet us in the conference! Our booth number is 8.    The Pulp, Paper & Fibre team at Tietoevry Industry    
LOCATION:Hotel Riu Plaza Espana 
END:VEVENT
END:VCALENDAR
